BEGIN:VCALENDAR
VERSION:2.0
PRODID:-//North American Hockey Systems, Inc. - ECPv6.15.20//NONSGML v1.0//EN
CALSCALE:GREGORIAN
METHOD:PUBLISH
X-ORIGINAL-URL:https://www.myhockeyskills.com
X-WR-CALDESC:Events for North American Hockey Systems, Inc.
REFRESH-INTERVAL;VALUE=DURATION:PT1H
X-Robots-Tag:noindex
X-PUBLISHED-TTL:PT1H
BEGIN:VTIMEZONE
TZID:UTC
BEGIN:STANDARD
TZOFFSETFROM:+0000
TZOFFSETTO:+0000
TZNAME:UTC
DTSTART:20250101T000000
END:STANDARD
END:VTIMEZONE
BEGIN:VEVENT
DTSTART;VALUE=DATE:20260331
DTEND;VALUE=DATE:20260603
DTSTAMP:20260423T101645
CREATED:20160114T071258Z
LAST-MODIFIED:20260323T184525Z
UID:317-1774915200-1780444799@www.myhockeyskills.com
SUMMARY:Schenectady County Spring Program
DESCRIPTION:Registration open & space available as of  03-24-2026 \nRegistration Form Click Here\n \nTo pay for program with Credit/Debit Card CLICK HERE \nProgram: Ten 2-hour practices; 1hr skate\, 1hr puck control\, passing\, & shooting \nLocation: Schenectady County Recreational Facility \nDates: Mar 31 – June 02 \nTime:  5:30pm-7:30pm (Tue Eves) \nCost: $475 \nThis program will be run by Coaches Dave Randall Jr\, Ryan Secor\, & Dave Randall Sr \nUp to 3 levels of players will train at the same time in this program \nAny questions\, please contact us to discuss \n  \n 
URL:https://www.myhockeyskills.com/register/schenectady-spring/
LOCATION:Schenectady County Rink\, 5 Tower Road\, Scotia\, NY\, 12302\, United States
ORGANIZER;CN="Coach Randall":MAILTO:info@myhockeyskills.com
END:VEVENT
BEGIN:VEVENT
DTSTART;VALUE=DATE:20260403
DTEND;VALUE=DATE:20260613
DTSTAMP:20260423T101645
CREATED:20160114T075716Z
LAST-MODIFIED:20260216T235302Z
UID:328-1775174400-1781308799@www.myhockeyskills.com
SUMMARY:Intermediate Player Spring Invitational
DESCRIPTION:Cost: $559 \nGOAL SHEET – CLICK HERE \nAudio Goal Info – CLICK HERE \nTo pay for program with Credit/Debit Card CLICK HERE \nDates: April 3 – June 12\, 2026 \nRink:  Albany County Rink \nTime:  5:30pm-7:45pm \nBY INVITATION ONLY \nTo be considered\, players should have: \n\nDriven Character\nStrong Willingness to Work\n150 – 250 hours Personal Hockey Skills Development Completed at Our School\n\nPlease call Coach Randall at 518-281-4811 for qualifications if you have not received an invitation and would like to be considered for this program
URL:https://www.myhockeyskills.com/register/intermediate-spring/
LOCATION:Albany County Rink\, 830 Albany Shaker Rd\, Loudonville\, NY\, 12211\, United States
ORGANIZER;CN="Coach Randall":MAILTO:info@myhockeyskills.com
END:VEVENT
END:VCALENDAR