BEGIN:VCALENDAR
VERSION:2.0
PRODID:-//North American Hockey Systems, Inc. - ECPv6.15.20//NONSGML v1.0//EN
CALSCALE:GREGORIAN
METHOD:PUBLISH
X-WR-CALNAME:North American Hockey Systems, Inc.
X-ORIGINAL-URL:https://www.myhockeyskills.com
X-WR-CALDESC:Events for North American Hockey Systems, Inc.
REFRESH-INTERVAL;VALUE=DURATION:PT1H
X-Robots-Tag:noindex
X-PUBLISHED-TTL:PT1H
BEGIN:VTIMEZONE
TZID:UTC
BEGIN:STANDARD
TZOFFSETFROM:+0000
TZOFFSETTO:+0000
TZNAME:UTC
DTSTART:20190101T000000
END:STANDARD
END:VTIMEZONE
BEGIN:VEVENT
DTSTART;VALUE=DATE:20200913
DTEND;VALUE=DATE:20470222
DTSTAMP:20260423T105131
CREATED:20160114T012410Z
LAST-MODIFIED:20251024T155910Z
UID:263-1599955200-2434406399@www.myhockeyskills.com
SUMMARY:Weekly Fundamentals Program
DESCRIPTION:Classes available year round \nRegistration Form CLICK HERE \nTo pay for program with Credit/Debit Card CLICK HERE \nMonday thru Thursday\,  Saturday & Sunday – up to 50 weeks available each year. \nProgram open to all levels \n      Entry Level Players \n\nSaturday   @ 5:00pm\nSunday     @ 1:15pm\nThursday   @ 5:00pm\n\n      2nd Year Players \n\nSunday  @ 12:15pm & 2:15pm\nThursday @ 6:00pm\nSaturday  @ 4:00pm\n\n     SKATE & STICK/PUCK & PASSING \n\nSat   @  12n-2pm & 2-4pm\nSun  @  8-10am & 3:15-5:15pm\nMon  @  4:15-6:15pm\nTue   @  5:00-7:00pm\nWed  @  4:15-6:15 & 6:30-8:30pm\nThu   @  6:00-8:00pm\n\nALL OTHERS REQUEST A DAY & TIME SLOT AND WE WILL CONFIRM \nPrivate lessons available when appropriate \nSkate sharpening and Custom Profiling available \nBlade Information now included in registration form \nContact us for detailed information or questions \nCLICK HERE to open the registration form for the Weekly Fundamentals Program \n 
URL:https://www.myhockeyskills.com/register/weekly-fundamentals/
LOCATION:Randall’s Rink\, 200 Oakwood Avenue\, Troy\, NY\, 12182\, United States
ORGANIZER;CN="Coach Randall":MAILTO:info@myhockeyskills.com
END:VEVENT
BEGIN:VEVENT
DTSTART;VALUE=DATE:20260803
DTEND;VALUE=DATE:20260829
DTSTAMP:20260423T105131
CREATED:20160114T074529Z
LAST-MODIFIED:20260414T160429Z
UID:329-1785715200-1787961599@www.myhockeyskills.com
SUMMARY:Albany County Day Program - Summer Hockey School
DESCRIPTION:Registration open\, space available 4-20-2026-15-2026 \nRegistration Form CLICK HERE\n \nThis program is for strong 8u – 14u players \nPlayers should have reasonable backwards skating skills \nAugust 10-14 | August 24-28 | August 30 – Sept. 4 \nCost: $575 \nT0 pay for program with Credit/Debit Card CLICK HERE \nTime:  9:00am-3:00pm Mon – Fri \nRink:   Albany County Hockey Facility \nEach day consists of: \n\nSkating\nStick/Puck Control\nPassing Systems\nShooting\nScoring\n\nQuestions\, contact us for specific info \n  \n  \n 
URL:https://www.myhockeyskills.com/register/summer-hockey-school/
LOCATION:Albany County Rink\, 830 Albany Shaker Rd\, Loudonville\, NY\, 12211\, United States
ORGANIZER;CN="Coach Randall":MAILTO:info@myhockeyskills.com
END:VEVENT
BEGIN:VEVENT
DTSTART;VALUE=DATE:20260817
DTEND;VALUE=DATE:20260822
DTSTAMP:20260423T105131
CREATED:20160114T100546Z
LAST-MODIFIED:20260210T174356Z
UID:338-1786924800-1787356799@www.myhockeyskills.com
SUMMARY:ADVANCED SKILLS & GAME SITUATION - Albany County Day Program - Summer Hockey School
DESCRIPTION:Registration open \nRegistration Form CLICK HERE \nTo pay for program with Credit/Debit Card CLICK HERE \nPLAYERS MUST QUALIFY FOR THIS PROGRAM! \nTypically\, players in this program already have 400-500 hours training in our school \nCost: $595 \nDates: August 17th – 21st  (M-F) \nTime:  9:00am-3:00pm \nRink:   Albany County \nEach day consists of: \n\nSkating Development\nStick/Puck Control\nPassing Systems\nShooting & Scoring\nGame Situations\nMindset development of a Successful Player/Individual\n\nHousing is available\, contact us for detailed information. \n  \n 
URL:https://www.myhockeyskills.com/register/advanced-summer-hockey-school/
LOCATION:Albany County Rink\, 830 Albany Shaker Rd\, Loudonville\, NY\, 12211\, United States
ORGANIZER;CN="Coach Randall":MAILTO:info@myhockeyskills.com
END:VEVENT
END:VCALENDAR