BEGIN:VCALENDAR
VERSION:2.0
PRODID:-//North American Hockey Systems, Inc. - ECPv6.15.20//NONSGML v1.0//EN
CALSCALE:GREGORIAN
METHOD:PUBLISH
X-WR-CALNAME:North American Hockey Systems, Inc.
X-ORIGINAL-URL:https://www.myhockeyskills.com
X-WR-CALDESC:Events for North American Hockey Systems, Inc.
REFRESH-INTERVAL;VALUE=DURATION:PT1H
X-Robots-Tag:noindex
X-PUBLISHED-TTL:PT1H
BEGIN:VTIMEZONE
TZID:UTC
BEGIN:STANDARD
TZOFFSETFROM:+0000
TZOFFSETTO:+0000
TZNAME:UTC
DTSTART:20160101T000000
END:STANDARD
END:VTIMEZONE
BEGIN:VTIMEZONE
TZID:America/New_York
BEGIN:DAYLIGHT
TZOFFSETFROM:-0500
TZOFFSETTO:-0400
TZNAME:EDT
DTSTART:20250309T070000
END:DAYLIGHT
BEGIN:STANDARD
TZOFFSETFROM:-0400
TZOFFSETTO:-0500
TZNAME:EST
DTSTART:20251102T060000
END:STANDARD
BEGIN:DAYLIGHT
TZOFFSETFROM:-0500
TZOFFSETTO:-0400
TZNAME:EDT
DTSTART:20260308T070000
END:DAYLIGHT
BEGIN:STANDARD
TZOFFSETFROM:-0400
TZOFFSETTO:-0500
TZNAME:EST
DTSTART:20261101T060000
END:STANDARD
BEGIN:DAYLIGHT
TZOFFSETFROM:-0500
TZOFFSETTO:-0400
TZNAME:EDT
DTSTART:20270314T070000
END:DAYLIGHT
BEGIN:STANDARD
TZOFFSETFROM:-0400
TZOFFSETTO:-0500
TZNAME:EST
DTSTART:20271107T060000
END:STANDARD
END:VTIMEZONE
BEGIN:VEVENT
DTSTART;VALUE=DATE:20260406
DTEND;VALUE=DATE:20260410
DTSTAMP:20260423T090849
CREATED:20160114T062929Z
LAST-MODIFIED:20260210T173815Z
UID:318-1775433600-1775779199@www.myhockeyskills.com
SUMMARY:April School Break Program
DESCRIPTION:  \nRegistration open    CLICK HERE \nTo pay for program with Credit/Debit Card CLICK HERE \nDates:     April 6\, 7\, 8\, 9 \nRink:      Albany County Hockey Facility \nDays:     Mon\, Tues\, Wed\, Thu \nTimes:    8:00am-12:00pm \nCost:      Please see registration form \nProgram open to strong Mites thru Bantam \nPLAYERS NEED TO HAVE REASONABLE BACKWARD SKATING TO PARTICIPATE! \nProgram includes: \n\nSkating Development\nStick/Puck Control\nPassing Systems\nShooting & Scoring\n\nContact us for detailed information and/or questions. \nLast minute? Please let us know you are coming\, call or text 518-281-4811. \n 
URL:https://www.myhockeyskills.com/register/spring-school-break-program/
LOCATION:Albany County Rink\, 830 Albany Shaker Rd\, Loudonville\, NY\, 12211\, United States
ORGANIZER;CN="Coach Randall":MAILTO:info@myhockeyskills.com
END:VEVENT
BEGIN:VEVENT
DTSTART;TZID=UTC:20260309T183000
DTEND;TZID=UTC:20260318T203000
DTSTAMP:20260423T090849
CREATED:20260130T230812Z
LAST-MODIFIED:20260202T164055Z
UID:2650-1773081000-1773865800@www.myhockeyskills.com
SUMMARY:March Pre - Tryout Clinic
DESCRIPTION:For players that are 2016 – 2010 Birth years \nRegistration Form –CLICK HERE \nTo pay for program with Credit/Debit Card CLICK HERE \nProgram: This clinic is focusing on skating development\, Stick handling and puck control\, passing and shooting\, and game situations. \nLocation: Frear Park Rink in Troy \nDate:       March 9 – 6:40pm – 8:40pm\, March 16- 7:20pm -9:20pm\, March 18th – 6:40pm- 8:10pm. \nThis program will be run by Coach Ryan Secor\, Coach Dave JR \nIf you have any questions\, please contact Coach Ryan Secor: 518-441-1347 or secor@myhockeyskills.com \n 
URL:https://www.myhockeyskills.com/register/march-pre-tryout-clinic/
LOCATION:Frear Park Skating Rink\, Frear Park Rd\, Troy\, NY\, 12180\, United States
END:VEVENT
BEGIN:VEVENT
DTSTART;VALUE=DATE:20260217
DTEND;VALUE=DATE:20260221
DTSTAMP:20260423T090849
CREATED:20160114T022523Z
LAST-MODIFIED:20260215T174127Z
UID:284-1771286400-1771631999@www.myhockeyskills.com
SUMMARY:Winter/February School Break Program
DESCRIPTION:2 Advanced spots left \nContact coach Randall to confirm a spot or be on stand by \nCost:   Please see registration form (CLICK HERE) \nTo pay for program with Credit/Debit Card (CLICK HERE) \nDates: Feb 17\, 18\, 19\, 20\, 2026 \nTime:  8:00am-12:00n \nDays:  Tuesday thru Friday \nRink:  Albany County Hockey Facility \nProgram open to stronger Mites thru Bantam \nPLAYERS NEED TO HAVE REASONABLE BACKWARD SKATING TO PARTICIPATE! \nProgram includes: \n\nSkating Development\nStick/Puck Control\nPassing Systems\nShooting & Scoring\n\n(Click here) to open the registration form for the Winter Break Program \nContact us for detailed information and/or questions. \nLast minute? Please let us know you are coming\, call or text 518-281-4811.
URL:https://www.myhockeyskills.com/register/albany-county-winter-break/
LOCATION:Albany County Rink\, 830 Albany Shaker Rd\, Loudonville\, NY\, 12211\, United States
ORGANIZER;CN="Coach Randall":MAILTO:info@myhockeyskills.com
END:VEVENT
BEGIN:VEVENT
DTSTART;VALUE=DATE:20251226
DTEND;VALUE=DATE:20260101
DTSTAMP:20260423T090849
CREATED:20160114T014507Z
LAST-MODIFIED:20251222T211622Z
UID:281-1766707200-1767225599@www.myhockeyskills.com
SUMMARY:December School Break Program
DESCRIPTION:  \nNot a beginner program \nOpen to strong 7u thru 14u players \nPrint & fill in reg form\, text a copy to 518-281-4811 \nRegistration Form  CLICK HERE   \nTo pay for program with Credit/Debit Card  CLICK HERE \nCost: Refer to Registration Form \nDates: December 26\, 29\, 30\, 31  (Fri\, Mon\, Tue\, Wed) \nTime:  8:00am-12:00pm \nRink:   Albany County Rink \n  \n  \nPLAYERS NEED TO HAVE REASONABLE BACKWARD SKATING. Call to confirm level if not certain! \nProgram includes: \n\nSkating Development\nStick/Puck Control\nPassing Systems\nShooting & Scoring\n\nContact us for detailed information\, questions \ndirections to the rink below \nClick here to open the registration form
URL:https://www.myhockeyskills.com/register/december-school-break-program-2015/
LOCATION:Albany County Rink\, 830 Albany Shaker Rd\, Loudonville\, NY\, 12211\, United States
ORGANIZER;CN="Coach Randall":MAILTO:info@myhockeyskills.com
END:VEVENT
BEGIN:VEVENT
DTSTART;VALUE=DATE:20251226
DTEND;VALUE=DATE:20260101
DTSTAMP:20260423T090849
CREATED:20231119T175652Z
LAST-MODIFIED:20251114T195559Z
UID:2082-1766707200-1767225599@www.myhockeyskills.com
SUMMARY:Advanced December School Break
DESCRIPTION:Registration open >>  CLICK HERE \nTo pay for program with Credit/Debit Card CLICK HERE \nADVANCED PLAYERS ONLY!! Not sure? Have less than 200 hundred hours at our hockey school? Been playing less than 5 years? Call or text Coach Ryan Secor at 518-441-1347 to verify this will be a proper program for your son or daughter \nDates:    December 26\, 29\, 30\, 31 \nDays:     Fri\, Mon\, Tues\, Wed \nTimes:   1:10pm – 3:10pm \nCost:      See registration form \nProgram includes: \n\nGame Situation\nShooting & Scoring\n\nContact us for detailed information and/or questions. \nLast minute? Please let us know you are coming\, call or text 518-281-4811.
URL:https://www.myhockeyskills.com/register/advance-holiday-break/
LOCATION:Frear Park Skating Rink\, Frear Park Rd\, Troy\, NY\, 12180\, United States
END:VEVENT
BEGIN:VEVENT
DTSTART;TZID=UTC:20251002T090000
DTEND;TZID=UTC:20260131T230000
DTSTAMP:20260423T090849
CREATED:20240916T171656Z
LAST-MODIFIED:20260116T162911Z
UID:2367-1759395600-1769900400@www.myhockeyskills.com
SUMMARY:2026 Holiday Shooting and Scoring Clinics
DESCRIPTION:For MLK\, spots still available as of  01-16-26 \n  \nFOR BIRTH YEARS 2009 – 2016 / NO BEGINNERS \n2017’s may apply for consideration \nCLICK HERE for registration form \nTo pay for program with Credit/Debit Card CLICK HERE \nRemaining Dates:   Mon Jan 19\, 2026  \nCost:  $49 \nTime:  9:00am-11:00am \nLocation: Albany County Rink \nSeveral levels of players will train and share ice in this program \nPlayers grouped according to their level \nAny questions\, please contact us to discuss \n 
URL:https://www.myhockeyskills.com/register/october-3rd-school-recess-shooting-and-scoring-clinic/
LOCATION:Albany County Rink\, 830 Albany Shaker Rd\, Loudonville\, NY\, 12211\, United States
END:VEVENT
BEGIN:VEVENT
DTSTART;TZID=UTC:20250721T090000
DTEND;TZID=UTC:20250725T140000
DTSTAMP:20260423T090849
CREATED:20250123T194225Z
LAST-MODIFIED:20250123T194225Z
UID:2441-1753088400-1753452000@www.myhockeyskills.com
SUMMARY:10U Summer Camp
DESCRIPTION:Registration Form – CLICK HERE  \nCredit/Debit Card Link – CLICK HERE \nRink:   NAHS Training Facility – 200 Oakwood Ave Troy\n \nDates:  July 21-25   M-F \nTimes:  9:00am-2:00 pm\n \nCost:    $525 \nProgram for 10U players (ages 10 and 9) includes: \n\n2 hours on ice training\n1.25 hours off ice\nVideo Analysis\n45 min of swimming\n8 player maximum\n\nContact us for detailed information\, questions\, directions to the rink below
URL:https://www.myhockeyskills.com/register/10u-summer-camp/
LOCATION:Randall’s Rink\, 200 Oakwood Avenue\, Troy\, NY\, 12182\, United States
END:VEVENT
BEGIN:VEVENT
DTSTART;TZID=UTC:20250721T090000
DTEND;TZID=UTC:20250725T140000
DTSTAMP:20260423T090849
CREATED:20250123T194135Z
LAST-MODIFIED:20250123T194135Z
UID:2444-1753088400-1753452000@www.myhockeyskills.com
SUMMARY:12U Summer Camp
DESCRIPTION:Registration Form – CLICK HERE  \nCredit/Debit Card Link – CLICK HERE \nRink:   NAHS Training Facility – 200 Oakwood Ave Troy\n \nDates:  July 21-25   M-F \nTimes:  9:00am-2:00 pm\n \nCost:    $525 \nProgram for 12U players (ages 12 and 11) includes: \n\n2 hours on ice training\n1.25 hours off ice\nVideo Analysis\n45 min of swimming\n8 player maximum\n\nContact us for detailed information\, questions\, directions to the rink below
URL:https://www.myhockeyskills.com/register/12u-summer-camp/
END:VEVENT
BEGIN:VEVENT
DTSTART;TZID=UTC:20250630T090000
DTEND;TZID=UTC:20250703T150000
DTSTAMP:20260423T090849
CREATED:20240320T213701Z
LAST-MODIFIED:20250410T151621Z
UID:2286-1751274000-1751554800@www.myhockeyskills.com
SUMMARY:Plattsburgh Summer Hockey School
DESCRIPTION:Registration open & space available as of  04-11-2025 \nRegistration Form CLICK HERE \nTo pay for program with Credit/Debit Card CLICK HERE \nRink:    Ameri – Can North Sport Center \nDates:   June 30th – July 3rd \nTimes:   9:00am – 3:00pm Mon – Thu \nCost:    $495 \nEach day consists of: \n\nSkating\nStick/Puck Control\nPassing Systems\nShooting\nScoring\n\nQuestions\, contact us for specific info \n  \nClick here to open the registration form: Plattsburgh Summer 2025
URL:https://www.myhockeyskills.com/register/plattsburgh-summer-hockey-school/
LOCATION:AMERI-CAN NORTH SPORT CENTER\, 90 Sharron Ave\, Plattsburgh\, NY\, 12901
END:VEVENT
BEGIN:VEVENT
DTSTART;TZID=UTC:20250224T080000
DTEND;TZID=UTC:20250227T170000
DTSTAMP:20260423T090849
CREATED:20250123T193048Z
LAST-MODIFIED:20250312T150920Z
UID:2451-1740384000-1740675600@www.myhockeyskills.com
SUMMARY:February Break Middlebury Vermont
DESCRIPTION:Registration Open \nCost:   Please see registration form (CLICK HERE) \nTo pay for program with Credit/Debit Card (CLICK HERE) \nDates: Feb x\, 2026 \nDays:  Monday @ 9:00 am – 1:00 pm & Thursday @ 11:15 am – 3:15 pm \nRink:  Memorial Sports Center \nProgram open to stronger Mites thru Bantam \nPLAYERS NEED TO HAVE REASONABLE BACKWARD SKATING TO PARTICIPATE! \nProgram includes: \n\nSkating Development\nStick/Puck Control\nPassing Systems\nShooting & Scoring\n\n(Click here) to open the registration form for the Winter Break Program \nContact us for detailed information and/or questions. \nLast minute? Please let us know you are coming\, call or text 518-281-4811.
URL:https://www.myhockeyskills.com/register/february-break-middlebury-vermont/
LOCATION:Memorial Sport Center\, 296 Buttolph Dr\, Middlebury\, VT\, 05753\, United States
END:VEVENT
BEGIN:VEVENT
DTSTART;VALUE=DATE:20250120
DTEND;VALUE=DATE:20250121
DTSTAMP:20260423T090849
CREATED:20160114T063405Z
LAST-MODIFIED:20250108T151055Z
UID:322-1737331200-1737417599@www.myhockeyskills.com
SUMMARY:MLK Holiday Shooting & Scoring Program
DESCRIPTION:  \nShooting and Scoring Program January 2025 \nFOR BIRTH YEARS 2009 – 2016 / NO BEGINNERS \n2017’s may apply for consideration \nCLICK HERE for registration form \nTo pay for program with Credit/Debit Card CLICK HERE \nDate: Monday January 20\, 2025 \nCost:  $49 \nTime:  9:00am-11:00am \nLocation: Albany County Rink \nSeveral levels of players will train and share ice in this program \nPlayers grouped according to their level \nAny questions\, please contact us to discuss \n  \n  \n 
URL:https://www.myhockeyskills.com/register/taha-vet-day/
LOCATION:Albany County Rink\, 830 Albany Shaker Rd\, Loudonville\, NY\, 12211\, United States
ORGANIZER;CN="Coach Randall":MAILTO:info@myhockeyskills.com
END:VEVENT
BEGIN:VEVENT
DTSTART;VALUE=DATE:20241219
DTEND;VALUE=DATE:20241231
DTSTAMP:20260423T090849
CREATED:20231119T194638Z
LAST-MODIFIED:20241120T175919Z
UID:2090-1734566400-1735603199@www.myhockeyskills.com
SUMMARY:Elite December School Break Clinic
DESCRIPTION:Registration open  CLICK HERE \nTo pay for program with Credit/Debit Card CLICK HERE \nDates:      December 19\, 20\, 23\, 26\, 27\, 30 \nTimes:           12/19 – 1:30pm – 2:30pm \n                  12/20 – 1:30pm – 2:30pm \n                  12/23 – 1:30pm – 2:30pm \n                  12/26 – 12:30p – 1:30pm  \n                  12/27 – 1pm – 2pm \n                  12/30 – 1pm – 2pm \n                   \n  \nCost: Please see registration form \nInvite Only \nContact us for detailed information and/or questions. \nLast minute? Please let us know you are coming\, call or text Coach Secor at 518-441-1347
URL:https://www.myhockeyskills.com/register/elite-december-school-break-clinic/
LOCATION:Frear Park Skating Rink\, Frear Park Rd\, Troy\, NY\, 12180\, United States
END:VEVENT
BEGIN:VEVENT
DTSTART;TZID=UTC:20241111T090000
DTEND;TZID=UTC:20241111T110000
DTSTAMP:20260423T090849
CREATED:20240916T173810Z
LAST-MODIFIED:20241008T162124Z
UID:2381-1731315600-1731322800@www.myhockeyskills.com
SUMMARY:Veterans Day Shooting and Scoring Clinic
DESCRIPTION:Shooting and Scoring Clinic – Veterans Day \nFOR BIRTH YEARS 2009 – 2015 / NO BEGINNERS \n2016’s may apply for consideration \nCLICK HERE for registration form \nTo pay for program with Credit/Debit Card CLICK HERE \nDate: Monday November 11\, 2024 \nLocation: Albany County Rink \nTime:  9:00am-11:00am \nCost:  $49 \nSeveral levels of players will train and share ice in this program \nPlayers grouped according to their level \nAny questions\, please contact us to discuss
URL:https://www.myhockeyskills.com/register/veterans-day-shooting-and-scoring-clinic/
LOCATION:Albany County Rink\, 830 Albany Shaker Rd\, Loudonville\, NY\, 12211\, United States
END:VEVENT
BEGIN:VEVENT
DTSTART;TZID=UTC:20241014T090000
DTEND;TZID=UTC:20241014T110000
DTSTAMP:20260423T090849
CREATED:20240916T172113Z
LAST-MODIFIED:20241008T143255Z
UID:2371-1728896400-1728903600@www.myhockeyskills.com
SUMMARY:Columbus Day Shooting and Scoring Clinic
DESCRIPTION:Shooting and Scoring Clinic – Columbus Day \nFOR BIRTH YEARS 2009 – 2015 / NO BEGINNERS \n2016’s may apply for consideration \nCLICK HERE for registration form \nTo pay for program with Credit/Debit Card CLICK HERE \nDate: Monday October 14\, 2024 \nLocation: Albany County Rink \nTime:  9:00am-11:00am \nCost:  $49 \nSeveral levels of players will train and share ice in this program \nPlayers grouped according to their level \nAny questions\, please contact us to discuss
URL:https://www.myhockeyskills.com/register/columbus-day-shooting-and-scoring-clinic/
LOCATION:Albany County Rink\, 830 Albany Shaker Rd\, Loudonville\, NY\, 12211\, United States
END:VEVENT
BEGIN:VEVENT
DTSTART;VALUE=DATE:20250707
DTEND;VALUE=DATE:20250821
DTSTAMP:20260423T090849
CREATED:20230423T220726Z
LAST-MODIFIED:20250626T182312Z
UID:1980-1751846400-1755734399@www.myhockeyskills.com
SUMMARY:Game Situation Weekly Program
DESCRIPTION:For players that are High School\, 18U\, 16U\, 15O\, and 14U \nRegistration Form –CLICK HERE \nTo pay for program with Credit/Debit Card CLICK HERE \nProgram: Weekly two 1 hour sessions working on transferring skills into game situations. There will be an emphasis on checking\, zone entries\, and creating turnovers in defensive zone. \nLocation: Schenectady County Recreational Facility \nDate:       July 7th – August 20th \nTime:      Monday – 4:50PM         Wednesday – 4:20PM \nThis program will be run by Coach Ryan Secor \nIf you have any questions\, please contact Coach Ryan Secor: 518-441-1347 or secor@myhockeyskills.com \n 
URL:https://www.myhockeyskills.com/register/game-situation-weekly-program/
LOCATION:Schenectady County Rink\, 5 Tower Road\, Scotia\, NY\, 12302\, United States
END:VEVENT
BEGIN:VEVENT
DTSTART;VALUE=DATE:20240715
DTEND;VALUE=DATE:20240818
DTSTAMP:20260423T090849
CREATED:20160114T103330Z
LAST-MODIFIED:20240513T144339Z
UID:350-1721001600-1723939199@www.myhockeyskills.com
SUMMARY:Summer Program/Mini Mite/Mite - 1st Yr - 2nd Yr Players
DESCRIPTION:  \nAs of 5-1-24   spaces available all weeks \nRegistration Form – CLICK HERE  \nCredit/Debit Card Link – CLICK HERE \nRink:    Randall’s – 200 Oakwood Ave Troy\n \nDates:  July 15-19\, July 22-26\, August 12-16    M-F \nTimes:  10:00pm-12:00 noon\n \nCost:    $285 \nProgram for mini-mites and mites (ages 5-9) includes: \n\n1 hour skating skills\n1 hour stick/puck skills\n12 player maximum\n\nContact us for detailed information\, questions\, directions to the rink below \n 
URL:https://www.myhockeyskills.com/register/mini-and-house-mite-summer-program/
LOCATION:Randall’s Rink\, 200 Oakwood Avenue\, Troy\, NY\, 12182\, United States
ORGANIZER;CN="Coach Randall":MAILTO:info@myhockeyskills.com
END:VEVENT
BEGIN:VEVENT
DTSTART;VALUE=DATE:20170714
DTEND;VALUE=DATE:20170826
DTSTAMP:20260423T090849
CREATED:20160407T165003Z
LAST-MODIFIED:20170708T030149Z
UID:491-1499990400-1503705599@www.myhockeyskills.com
SUMMARY:Adult - Summer Program Albany County Rink
DESCRIPTION:Adult Summer Program \nSpace available call 281-4811 after 7-13-17 and we will add you to the roster \nLocation: Albany County Rink \nDay:    Friday Evenings \nDates:  July  thru August \nTime:   7:45pm – 9:15pm \nCost:    $175 & weekly $30 \nTo open registration form CLICK HERE
URL:https://www.myhockeyskills.com/register/adult-spring-program-knickerbacker-arena/
LOCATION:Albany County Rink\, 830 Albany Shaker Rd\, Loudonville\, NY\, 12211\, United States
ORGANIZER;CN="Coach Randall":MAILTO:info@myhockeyskills.com
END:VEVENT
END:VCALENDAR