BEGIN:VCALENDAR
VERSION:2.0
PRODID:-//North American Hockey Systems, Inc. - ECPv6.15.20//NONSGML v1.0//EN
CALSCALE:GREGORIAN
METHOD:PUBLISH
X-WR-CALNAME:North American Hockey Systems, Inc.
X-ORIGINAL-URL:https://www.myhockeyskills.com
X-WR-CALDESC:Events for North American Hockey Systems, Inc.
REFRESH-INTERVAL;VALUE=DURATION:PT1H
X-Robots-Tag:noindex
X-PUBLISHED-TTL:PT1H
BEGIN:VTIMEZONE
TZID:UTC
BEGIN:STANDARD
TZOFFSETFROM:+0000
TZOFFSETTO:+0000
TZNAME:UTC
DTSTART:20190101T000000
END:STANDARD
END:VTIMEZONE
BEGIN:VEVENT
DTSTART;VALUE=DATE:20200913
DTEND;VALUE=DATE:20470222
DTSTAMP:20260423T063426
CREATED:20160114T012410Z
LAST-MODIFIED:20251024T155910Z
UID:263-1599955200-2434406399@www.myhockeyskills.com
SUMMARY:Weekly Fundamentals Program
DESCRIPTION:Classes available year round \nRegistration Form CLICK HERE \nTo pay for program with Credit/Debit Card CLICK HERE \nMonday thru Thursday\,  Saturday & Sunday – up to 50 weeks available each year. \nProgram open to all levels \n      Entry Level Players \n\nSaturday   @ 5:00pm\nSunday     @ 1:15pm\nThursday   @ 5:00pm\n\n      2nd Year Players \n\nSunday  @ 12:15pm & 2:15pm\nThursday @ 6:00pm\nSaturday  @ 4:00pm\n\n     SKATE & STICK/PUCK & PASSING \n\nSat   @  12n-2pm & 2-4pm\nSun  @  8-10am & 3:15-5:15pm\nMon  @  4:15-6:15pm\nTue   @  5:00-7:00pm\nWed  @  4:15-6:15 & 6:30-8:30pm\nThu   @  6:00-8:00pm\n\nALL OTHERS REQUEST A DAY & TIME SLOT AND WE WILL CONFIRM \nPrivate lessons available when appropriate \nSkate sharpening and Custom Profiling available \nBlade Information now included in registration form \nContact us for detailed information or questions \nCLICK HERE to open the registration form for the Weekly Fundamentals Program \n 
URL:https://www.myhockeyskills.com/register/weekly-fundamentals/
LOCATION:Randall’s Rink\, 200 Oakwood Avenue\, Troy\, NY\, 12182\, United States
ORGANIZER;CN="Coach Randall":MAILTO:info@myhockeyskills.com
END:VEVENT
BEGIN:VEVENT
DTSTART;VALUE=DATE:20260330
DTEND;VALUE=DATE:20260609
DTSTAMP:20260423T063426
CREATED:20170302T173425Z
LAST-MODIFIED:20260210T172459Z
UID:567-1774828800-1780963199@www.myhockeyskills.com
SUMMARY:Adult Spring Program Albany County Rink
DESCRIPTION:Space available as of 2-10-26 \nRegistration Open – Click Here \nTo pay for program with Credit/Debit Card CLICK HERE \nLocation:  ALBANY COUNTY RINK \nDates:        March 30 thru June 08 \nDay:           Monday Evenings No Skate April 20th or May 25th \nTime:         8:45- 10:15pm \nCost:          $475 or weekly $55 \n  \n 
URL:https://www.myhockeyskills.com/register/adult-spring-program/
LOCATION:Albany County Rink\, 830 Albany Shaker Rd\, Loudonville\, NY\, 12211\, United States
ORGANIZER;CN="Coach Randall II":MAILTO:info@myhockeyskills.com
END:VEVENT
BEGIN:VEVENT
DTSTART;VALUE=DATE:20260331
DTEND;VALUE=DATE:20260603
DTSTAMP:20260423T063426
CREATED:20160114T071258Z
LAST-MODIFIED:20260323T184525Z
UID:317-1774915200-1780444799@www.myhockeyskills.com
SUMMARY:Schenectady County Spring Program
DESCRIPTION:Registration open & space available as of  03-24-2026 \nRegistration Form Click Here\n \nTo pay for program with Credit/Debit Card CLICK HERE \nProgram: Ten 2-hour practices; 1hr skate\, 1hr puck control\, passing\, & shooting \nLocation: Schenectady County Recreational Facility \nDates: Mar 31 – June 02 \nTime:  5:30pm-7:30pm (Tue Eves) \nCost: $475 \nThis program will be run by Coaches Dave Randall Jr\, Ryan Secor\, & Dave Randall Sr \nUp to 3 levels of players will train at the same time in this program \nAny questions\, please contact us to discuss \n  \n 
URL:https://www.myhockeyskills.com/register/schenectady-spring/
LOCATION:Schenectady County Rink\, 5 Tower Road\, Scotia\, NY\, 12302\, United States
ORGANIZER;CN="Coach Randall":MAILTO:info@myhockeyskills.com
END:VEVENT
BEGIN:VEVENT
DTSTART;TZID=UTC:20260401T173000
DTEND;TZID=UTC:20260617T193000
DTSTAMP:20260423T063426
CREATED:20260202T173247Z
LAST-MODIFIED:20260202T173247Z
UID:2653-1775064600-1781724600@www.myhockeyskills.com
SUMMARY:Spring Clinic At The Knick
DESCRIPTION:For players that are 2017 – 2010 Birth years \nRegistration Form –CLICK HERE \nTo pay for program with Credit/Debit Card CLICK HERE \nPLAYERS NEED REASONABLE BACKWARD SKATING TO PARTICIPATE \nProgram: This clinic is focusing on skating development\, Stick handling and puck control\, passing and shooting\, and game situations. \nLocation: Kickerbacker Recreational Facility in Troy \nDate:       April 1st – June 17th \nTime:       5:30pm – 7:30pm \nThis program will be run by Coach Ryan Secor\, Coach Randall\, Coach Dave JR \n 
URL:https://www.myhockeyskills.com/register/spring-clinic-at-the-knick/
LOCATION:Knickerbacker Arena\, 103rd & 8th Streets\, Troy\, 12182
END:VEVENT
BEGIN:VEVENT
DTSTART;VALUE=DATE:20260402
DTEND;VALUE=DATE:20260605
DTSTAMP:20260423T063426
CREATED:20250312T152329Z
LAST-MODIFIED:20260319T142641Z
UID:2522-1775088000-1780617599@www.myhockeyskills.com
SUMMARY:Saratoga - Spring Program
DESCRIPTION:* Program Full as of 3-17-26 * \nContact Coach Randall to be on stand by if you like \nSpaces are still available in SCHY Tue 530-730pm \nRegistration Form Click Here\n \nTo pay for program with Credit/Debit Card CLICK HERE \nProgram:    TEN – 2 hour practices; 1hr skate\, 1hr puck control\, passing\, & shooting \nLocation:    Saratoga Springs Vernon Facility \nDates:       April 02 – June 04 \nTime:        5:30pm-7:30pm (Thur Eves) \nCost:         $475 \nThis program will be run by Coaches Dave Randall Jr\, Ryan Secor\, & Dave Randall Sr \nUp to 3 levels of players will train at the same time in this program \nAny questions\, please contact us to discuss \n  \n 
URL:https://www.myhockeyskills.com/register/saratoga-spring-program/
LOCATION:Saratoga Weibel & Vernon Ice Rinks\, 30 Weibel Ave\, Saratoga Springs\, 12866\, United States
ORGANIZER;CN="Coach Randall":MAILTO:info@myhockeyskills.com
END:VEVENT
BEGIN:VEVENT
DTSTART;VALUE=DATE:20260403
DTEND;VALUE=DATE:20260613
DTSTAMP:20260423T063426
CREATED:20160114T062957Z
LAST-MODIFIED:20260216T235443Z
UID:319-1775174400-1781308799@www.myhockeyskills.com
SUMMARY:Advanced Player Spring Invitational
DESCRIPTION:Friday Evenings \nCost: $559 \nGOAL SHEET – CLICK HERE \nGoal Setting Info – Audio Click Here \nTo pay for program with Credit/Debit Card CLICK HERE \nDates: April 3 – June 12\, 2026 \nRink:  Albany County Rink \nTime:  6:50pm-9:30pm\n \nBy Invitation Only \nTo be considered\, players should have: \n\nDriven Character\nStrong Willingness to Work\n350+ hours Personal Hockey Skills Development Completed at Our School\n\nIf you have not received an invitation and would like to be considered for this program\, please call Coach Randall at 518-281-4811 for qualifications
URL:https://www.myhockeyskills.com/register/advanced-player-spring-invitational/
LOCATION:Albany County Rink\, 830 Albany Shaker Rd\, Loudonville\, NY\, 12211\, United States
ORGANIZER;CN="Coach Randall":MAILTO:info@myhockeyskills.com
END:VEVENT
BEGIN:VEVENT
DTSTART;VALUE=DATE:20260403
DTEND;VALUE=DATE:20260613
DTSTAMP:20260423T063426
CREATED:20160114T075716Z
LAST-MODIFIED:20260216T235302Z
UID:328-1775174400-1781308799@www.myhockeyskills.com
SUMMARY:Intermediate Player Spring Invitational
DESCRIPTION:Cost: $559 \nGOAL SHEET – CLICK HERE \nAudio Goal Info – CLICK HERE \nTo pay for program with Credit/Debit Card CLICK HERE \nDates: April 3 – June 12\, 2026 \nRink:  Albany County Rink \nTime:  5:30pm-7:45pm \nBY INVITATION ONLY \nTo be considered\, players should have: \n\nDriven Character\nStrong Willingness to Work\n150 – 250 hours Personal Hockey Skills Development Completed at Our School\n\nPlease call Coach Randall at 518-281-4811 for qualifications if you have not received an invitation and would like to be considered for this program
URL:https://www.myhockeyskills.com/register/intermediate-spring/
LOCATION:Albany County Rink\, 830 Albany Shaker Rd\, Loudonville\, NY\, 12211\, United States
ORGANIZER;CN="Coach Randall":MAILTO:info@myhockeyskills.com
END:VEVENT
BEGIN:VEVENT
DTSTART;VALUE=DATE:20260710
DTEND;VALUE=DATE:20260829
DTSTAMP:20260423T063426
CREATED:20240530T215635Z
LAST-MODIFIED:20260313T164404Z
UID:2342-1783641600-1787961599@www.myhockeyskills.com
SUMMARY:Albany County - ADVANCED PLAYERS ONLY Friday Evening Summer
DESCRIPTION:Registration open \nRegistration Form for Advanced Players Only CLICK HERE \nTo pay for program with Credit/Debit Card CLICK HERE \nProgram:  Advanced Skills – Game Situation \nLocation:  Albany County Hockey Facility \nDates:        July 10th – August 28th \nTime:         7:30pm-9:30pm \nRink:          Albany County \nCost:          $399 all 8 weeks or $60 weekly \n  \nThis program will be coached by Dave Randall II & Ryan Secor \nAny questions\, please contact us to discuss 518-281-4811
URL:https://www.myhockeyskills.com/register/advanced-friday-evening-summer-albany-county/
LOCATION:Albany County Rink\, 830 Albany Shaker Rd\, Loudonville\, NY\, 12211\, United States
ORGANIZER;CN="Coach Randall":MAILTO:info@myhockeyskills.com
END:VEVENT
BEGIN:VEVENT
DTSTART;TZID=UTC:20260710T080000
DTEND;TZID=UTC:20260828T170000
DTSTAMP:20260423T063426
CREATED:20240207T234155Z
LAST-MODIFIED:20260313T164829Z
UID:2185-1783670400-1787936400@www.myhockeyskills.com
SUMMARY:Albany County Friday Evening Summer Program
DESCRIPTION:To open registration form Click Here \nTo pay for program with Credit/Debit Card CLICK HERE \nDates:  July 10th thru August 28th \nTime:   5:30 – 7:30pm \nCost:   $399 all 8 weeks – $60 weekly \nProgram:  1st hr Skating Development\, 2nd hr Stick Puck\, Passing\, & Shooting
URL:https://www.myhockeyskills.com/register/albany-county-friday-evening-summer-program/
LOCATION:Albany County Rink\, 830 Albany Shaker Rd\, Loudonville\, NY\, 12211\, United States
ORGANIZER;CN="Coach Randall":MAILTO:info@myhockeyskills.com
END:VEVENT
BEGIN:VEVENT
DTSTART;VALUE=DATE:20260713
DTEND;VALUE=DATE:20260718
DTSTAMP:20260423T063426
CREATED:20240610T163320Z
LAST-MODIFIED:20260115T174659Z
UID:2354-1783900800-1784332799@www.myhockeyskills.com
SUMMARY:Game Situation Summer DAY Program
DESCRIPTION:Registration opens 01-15-2026 \nRegistration Form – Click Here\n \nGame Situation Summer Day Program for players with birth year 2009 – 2014 \nTo pay for program with Credit/Debit Card – Click Here \nFor Daily Program See Registration – Click Here \nRink:   Albany County Hockey Facility \nDates:  July 13-17 \nDays:   Monday thru Friday \nTime:   9:00am-3:00pm \nCost:    $575 \nQuestions\, contact us for specific info – Coach Secor 518-441-1347
URL:https://www.myhockeyskills.com/register/game-situation-summer-day-program/
ORGANIZER;CN="Coach Randall":MAILTO:info@myhockeyskills.com
END:VEVENT
BEGIN:VEVENT
DTSTART;VALUE=DATE:20260713
DTEND;VALUE=DATE:20260822
DTSTAMP:20260423T063426
CREATED:20240325T184824Z
LAST-MODIFIED:20260212T220159Z
UID:2306-1783900800-1787356799@www.myhockeyskills.com
SUMMARY:Mini Mite-Mite Summer program
DESCRIPTION:Registration to open \nAs of 2-12-25   spaces available both weeks \nRegistration Form – CLICK HERE  \nCredit/Debit Card Link – CLICK HERE \nRink:    Randall’s – 200 Oakwood Ave Troy\n \nDates:   July 13-17\, August 17-21    M-F \nTimes:  10:00pm-12:00 noon\n \nCost:    $305 \nProgram for mini-mites and mites (ages 5-9) includes: \n\n1 hour skating skills\n1 hour stick/puck skills\n12 player maximum\n\nContact us for detailed information\, questions\, directions to the rink below
URL:https://www.myhockeyskills.com/register/mini-mite-mite-summer-program/
LOCATION:Randall’s Rink\, 200 Oakwood Avenue\, Troy\, NY\, 12182\, United States
ORGANIZER;CN="Coach Randall":MAILTO:info@myhockeyskills.com
END:VEVENT
BEGIN:VEVENT
DTSTART;VALUE=DATE:20260803
DTEND;VALUE=DATE:20260808
DTSTAMP:20260423T063426
CREATED:20160114T063039Z
LAST-MODIFIED:20260311T172236Z
UID:320-1785715200-1786147199@www.myhockeyskills.com
SUMMARY:Saratoga Springs Summer Hockey School
DESCRIPTION:  \nProgram is on!!! City ok’d 3-5-26 \nRegistration open as of 03-05-2026 \nTo Open SUMMER Registration Form  CLICK HERE \nDo not pay until Coach Randall Confirms your registration \nTo pay for program with Credit/Debit Card  CLICK HERE \nRink:   Vernon Rink \nDates:  August 3 – August 7   (M-F) \nTime:   9am – 3pm (See registration for daily schedule) \nCost:   $575 \nEach day consists of: \n\nSkating Development\nStick/Puck Control\nPassing Systems\nShooting & Scoring\nMindset of a Successful Player/Individual\nAnd Much More!!\n\nInstructors: David Randall\, David Randall II\, Ryan Secor & assistants as roster dictates \n 
URL:https://www.myhockeyskills.com/register/newburgh-summer/
END:VEVENT
BEGIN:VEVENT
DTSTART;VALUE=DATE:20260803
DTEND;VALUE=DATE:20260829
DTSTAMP:20260423T063426
CREATED:20160114T074529Z
LAST-MODIFIED:20260414T160429Z
UID:329-1785715200-1787961599@www.myhockeyskills.com
SUMMARY:Albany County Day Program - Summer Hockey School
DESCRIPTION:Registration open\, space available 4-20-2026-15-2026 \nRegistration Form CLICK HERE\n \nThis program is for strong 8u – 14u players \nPlayers should have reasonable backwards skating skills \nAugust 10-14 | August 24-28 | August 30 – Sept. 4 \nCost: $575 \nT0 pay for program with Credit/Debit Card CLICK HERE \nTime:  9:00am-3:00pm Mon – Fri \nRink:   Albany County Hockey Facility \nEach day consists of: \n\nSkating\nStick/Puck Control\nPassing Systems\nShooting\nScoring\n\nQuestions\, contact us for specific info \n  \n  \n 
URL:https://www.myhockeyskills.com/register/summer-hockey-school/
LOCATION:Albany County Rink\, 830 Albany Shaker Rd\, Loudonville\, NY\, 12211\, United States
ORGANIZER;CN="Coach Randall":MAILTO:info@myhockeyskills.com
END:VEVENT
BEGIN:VEVENT
DTSTART;VALUE=DATE:20260817
DTEND;VALUE=DATE:20260822
DTSTAMP:20260423T063426
CREATED:20160114T100546Z
LAST-MODIFIED:20260210T174356Z
UID:338-1786924800-1787356799@www.myhockeyskills.com
SUMMARY:ADVANCED SKILLS & GAME SITUATION - Albany County Day Program - Summer Hockey School
DESCRIPTION:Registration open \nRegistration Form CLICK HERE \nTo pay for program with Credit/Debit Card CLICK HERE \nPLAYERS MUST QUALIFY FOR THIS PROGRAM! \nTypically\, players in this program already have 400-500 hours training in our school \nCost: $595 \nDates: August 17th – 21st  (M-F) \nTime:  9:00am-3:00pm \nRink:   Albany County \nEach day consists of: \n\nSkating Development\nStick/Puck Control\nPassing Systems\nShooting & Scoring\nGame Situations\nMindset development of a Successful Player/Individual\n\nHousing is available\, contact us for detailed information. \n  \n 
URL:https://www.myhockeyskills.com/register/advanced-summer-hockey-school/
LOCATION:Albany County Rink\, 830 Albany Shaker Rd\, Loudonville\, NY\, 12211\, United States
ORGANIZER;CN="Coach Randall":MAILTO:info@myhockeyskills.com
END:VEVENT
END:VCALENDAR